BEGIN:VCALENDAR
VERSION:2.0
PRODID:-//Career Development | Transylvania University - ECPv5.16.4//NONSGML v1.0//EN
CALSCALE:GREGORIAN
METHOD:PUBLISH
X-WR-CALNAME:Career Development | Transylvania University
X-ORIGINAL-URL:https://www.transy.edu/career-development
X-WR-CALDESC:Events for Career Development | Transylvania University
REFRESH-INTERVAL;VALUE=DURATION:PT1H
X-Robots-Tag:noindex
X-PUBLISHED-TTL:PT1H
BEGIN:VTIMEZONE
TZID:UTC
BEGIN:STANDARD
TZOFFSETFROM:+0000
TZOFFSETTO:+0000
TZNAME:UTC
DTSTART:20260101T000000
END:STANDARD
END:VTIMEZONE
BEGIN:VEVENT
DTSTART;TZID=UTC:20260331T180000
DTEND;TZID=UTC:20260331T190000
DTSTAMP:20260423T082635
CREATED:20251027T125809Z
LAST-MODIFIED:20251027T125809Z
UID:838-1774980000-1774983600@www.transy.edu
SUMMARY:Beyond Balance: Thrive in Work & Life Without Burning Out
DESCRIPTION:In today’s demanding world\, truly thriving isn’t about perfectly balancing work and life – it’s about seamlessly integrating them so they fuel each other! We know that work-life flexibility is a top factor in building a fulfilling career\, and this session is all about empowering you to achieve sustained success and leadership without sacrificing well-being. We’ll dive into practical strategies for harmonizing your professional responsibilities with your personal life\, mastering effective time management\, and cultivating a mindset that views work and life not as separate battles\, but as interconnected strengths. \nWhat you’ll take away: \n\nPractical ways to blend your professional and personal responsibilities for greater flow\nMethods to maximize your time and energy\, allowing you to prioritize what truly matters\nA perspective that sees your work and personal life as mutually reinforcing strengths\n\nGet ready to equip yourself with the tools to thrive\, ensuring your long-term stability and well-being while making a significant impact in your purpose-driven career!
URL:https://www.transy.edu/career-development/event/beyond-balance-thrive-in-work-life-without-burning-out/
END:VEVENT
END:VCALENDAR